BEGIN:VCALENDAR
VERSION:2.0
PRODID:-//Simcoe Hall Settlement House - ECPv6.15.20//NONSGML v1.0//EN
CALSCALE:GREGORIAN
METHOD:PUBLISH
X-ORIGINAL-URL:https://simcoehall.com
X-WR-CALDESC:Events for Simcoe Hall Settlement House
REFRESH-INTERVAL;VALUE=DURATION:PT1H
X-Robots-Tag:noindex
X-PUBLISHED-TTL:PT1H
BEGIN:VTIMEZONE
TZID:America/Toronto
BEGIN:DAYLIGHT
TZOFFSETFROM:-0500
TZOFFSETTO:-0400
TZNAME:EDT
DTSTART:20240310T070000
END:DAYLIGHT
BEGIN:STANDARD
TZOFFSETFROM:-0400
TZOFFSETTO:-0500
TZNAME:EST
DTSTART:20241103T060000
END:STANDARD
BEGIN:DAYLIGHT
TZOFFSETFROM:-0500
TZOFFSETTO:-0400
TZNAME:EDT
DTSTART:20250309T070000
END:DAYLIGHT
BEGIN:STANDARD
TZOFFSETFROM:-0400
TZOFFSETTO:-0500
TZNAME:EST
DTSTART:20251102T060000
END:STANDARD
BEGIN:DAYLIGHT
TZOFFSETFROM:-0500
TZOFFSETTO:-0400
TZNAME:EDT
DTSTART:20260308T070000
END:DAYLIGHT
BEGIN:STANDARD
TZOFFSETFROM:-0400
TZOFFSETTO:-0500
TZNAME:EST
DTSTART:20261101T060000
END:STANDARD
END:VTIMEZONE
BEGIN:VEVENT
DTSTART;TZID=America/Toronto:20250324T151500
DTEND;TZID=America/Toronto:20250324T181500
DTSTAMP:20260422T183237
CREATED:20250322T143924Z
LAST-MODIFIED:20250322T144011Z
UID:5848-1742829300-1742840100@simcoehall.com
SUMMARY:After School Program (ASP)
DESCRIPTION:
URL:https://simcoehall.com/event/after-school-program-asp/
LOCATION:Simcoe Hall Settlement House\, 387 Simcoe Street South\, Oshawa\, Ontario\, L1H 4J2\, Canada
CATEGORIES:Simcoe Hall Program
ATTACH;FMTTYPE=image/png:https://simcoehall.com/wp-content/uploads/2025/03/2025-ASP-Instagram_post.png
ORGANIZER;CN="Simcoe Hall":MAILTO:info@simcoehall.com
END:VEVENT
BEGIN:VEVENT
DTSTART;TZID=America/Toronto:20250324T151500
DTEND;TZID=America/Toronto:20250324T181500
DTSTAMP:20260422T183237
CREATED:20250322T143924Z
LAST-MODIFIED:20250322T144011Z
UID:5848-1742829300-1742840100@simcoehall.com
SUMMARY:After School Program (ASP)
DESCRIPTION:
URL:https://simcoehall.com/event/after-school-program-asp/
LOCATION:Simcoe Hall Settlement House\, 387 Simcoe Street South\, Oshawa\, Ontario\, L1H 4J2\, Canada
CATEGORIES:Simcoe Hall Program
ATTACH;FMTTYPE=image/png:https://simcoehall.com/wp-content/uploads/2025/03/2025-ASP-Instagram_post.png
ORGANIZER;CN="Simcoe Hall":MAILTO:info@simcoehall.com
END:VEVENT
BEGIN:VEVENT
DTSTART;TZID=America/Toronto:20250324T151500
DTEND;TZID=America/Toronto:20250324T181500
DTSTAMP:20260422T183237
CREATED:20250322T143924Z
LAST-MODIFIED:20250322T144011Z
UID:5848-1742829300-1742840100@simcoehall.com
SUMMARY:After School Program (ASP)
DESCRIPTION:
URL:https://simcoehall.com/event/after-school-program-asp/
LOCATION:Simcoe Hall Settlement House\, 387 Simcoe Street South\, Oshawa\, Ontario\, L1H 4J2\, Canada
CATEGORIES:Simcoe Hall Program
ATTACH;FMTTYPE=image/png:https://simcoehall.com/wp-content/uploads/2025/03/2025-ASP-Instagram_post.png
ORGANIZER;CN="Simcoe Hall":MAILTO:info@simcoehall.com
END:VEVENT
BEGIN:VEVENT
DTSTART;TZID=America/Toronto:20250324T151500
DTEND;TZID=America/Toronto:20250324T181500
DTSTAMP:20260422T183237
CREATED:20250322T143924Z
LAST-MODIFIED:20250322T144011Z
UID:5848-1742829300-1742840100@simcoehall.com
SUMMARY:After School Program (ASP)
DESCRIPTION:
URL:https://simcoehall.com/event/after-school-program-asp/
LOCATION:Simcoe Hall Settlement House\, 387 Simcoe Street South\, Oshawa\, Ontario\, L1H 4J2\, Canada
CATEGORIES:Simcoe Hall Program
ATTACH;FMTTYPE=image/png:https://simcoehall.com/wp-content/uploads/2025/03/2025-ASP-Instagram_post.png
ORGANIZER;CN="Simcoe Hall":MAILTO:info@simcoehall.com
END:VEVENT
BEGIN:VEVENT
DTSTART;TZID=America/Toronto:20250328T100000
DTEND;TZID=America/Toronto:20250328T143000
DTSTAMP:20260422T183237
CREATED:20250322T141604Z
LAST-MODIFIED:20250322T141728Z
UID:5843-1743156000-1743172200@simcoehall.com
SUMMARY:Seniors Program: Every Friday at Simcoe Hall Settlement House!
DESCRIPTION:Seniors Program: Every Friday at Simcoe Hall Settlement House! \nLooking for a welcoming space to relax\, connect\, and enjoy some fun activities? Join us for our weekly Seniors Program every Friday from 10:00 AM to 2:30 PM. \nHere’s what’s in store: ☕ Coffee and Social Time: Start your day with a cup of coffee and great conversations. 🎲 Bingo & Other Activities: Get in on the action with games and activities designed for all to enjoy. 🌟 Community & Fun: Make new friends and create wonderful memories in a warm and friendly atmosphere. \nWe’d love to see you there! \nFor more information\, please call us at 905-728-7525.
URL:https://simcoehall.com/event/seniors-program-every-friday-at-simcoe-hall-settlement-house/
LOCATION:Simcoe Hall Settlement House\, 387 Simcoe Street South\, Oshawa\, Ontario\, L1H 4J2\, Canada
CATEGORIES:Simcoe Hall Program
ATTACH;FMTTYPE=image/jpeg:https://simcoehall.com/wp-content/uploads/2025/03/Seniors_love.jpg
ORGANIZER;CN="Simcoe Hall":MAILTO:info@simcoehall.com
END:VEVENT
BEGIN:VEVENT
DTSTART;TZID=America/Toronto:20250324T151500
DTEND;TZID=America/Toronto:20250324T181500
DTSTAMP:20260422T183237
CREATED:20250322T143924Z
LAST-MODIFIED:20250322T144011Z
UID:5848-1742829300-1742840100@simcoehall.com
SUMMARY:After School Program (ASP)
DESCRIPTION:
URL:https://simcoehall.com/event/after-school-program-asp/
LOCATION:Simcoe Hall Settlement House\, 387 Simcoe Street South\, Oshawa\, Ontario\, L1H 4J2\, Canada
CATEGORIES:Simcoe Hall Program
ATTACH;FMTTYPE=image/png:https://simcoehall.com/wp-content/uploads/2025/03/2025-ASP-Instagram_post.png
ORGANIZER;CN="Simcoe Hall":MAILTO:info@simcoehall.com
END:VEVENT
BEGIN:VEVENT
DTSTART;TZID=America/Toronto:20250324T151500
DTEND;TZID=America/Toronto:20250324T181500
DTSTAMP:20260422T183237
CREATED:20250322T143924Z
LAST-MODIFIED:20250322T144011Z
UID:5848-1742829300-1742840100@simcoehall.com
SUMMARY:After School Program (ASP)
DESCRIPTION:
URL:https://simcoehall.com/event/after-school-program-asp/
LOCATION:Simcoe Hall Settlement House\, 387 Simcoe Street South\, Oshawa\, Ontario\, L1H 4J2\, Canada
CATEGORIES:Simcoe Hall Program
ATTACH;FMTTYPE=image/png:https://simcoehall.com/wp-content/uploads/2025/03/2025-ASP-Instagram_post.png
ORGANIZER;CN="Simcoe Hall":MAILTO:info@simcoehall.com
END:VEVENT
BEGIN:VEVENT
DTSTART;TZID=America/Toronto:20250324T151500
DTEND;TZID=America/Toronto:20250324T181500
DTSTAMP:20260422T183237
CREATED:20250322T143924Z
LAST-MODIFIED:20250322T144011Z
UID:5848-1742829300-1742840100@simcoehall.com
SUMMARY:After School Program (ASP)
DESCRIPTION:
URL:https://simcoehall.com/event/after-school-program-asp/
LOCATION:Simcoe Hall Settlement House\, 387 Simcoe Street South\, Oshawa\, Ontario\, L1H 4J2\, Canada
CATEGORIES:Simcoe Hall Program
ATTACH;FMTTYPE=image/png:https://simcoehall.com/wp-content/uploads/2025/03/2025-ASP-Instagram_post.png
ORGANIZER;CN="Simcoe Hall":MAILTO:info@simcoehall.com
END:VEVENT
BEGIN:VEVENT
DTSTART;TZID=America/Toronto:20250324T151500
DTEND;TZID=America/Toronto:20250324T181500
DTSTAMP:20260422T183237
CREATED:20250322T143924Z
LAST-MODIFIED:20250322T144011Z
UID:5848-1742829300-1742840100@simcoehall.com
SUMMARY:After School Program (ASP)
DESCRIPTION:
URL:https://simcoehall.com/event/after-school-program-asp/
LOCATION:Simcoe Hall Settlement House\, 387 Simcoe Street South\, Oshawa\, Ontario\, L1H 4J2\, Canada
CATEGORIES:Simcoe Hall Program
ATTACH;FMTTYPE=image/png:https://simcoehall.com/wp-content/uploads/2025/03/2025-ASP-Instagram_post.png
ORGANIZER;CN="Simcoe Hall":MAILTO:info@simcoehall.com
END:VEVENT
BEGIN:VEVENT
DTSTART;TZID=America/Toronto:20250324T151500
DTEND;TZID=America/Toronto:20250324T181500
DTSTAMP:20260422T183237
CREATED:20250322T143924Z
LAST-MODIFIED:20250322T144011Z
UID:5848-1742829300-1742840100@simcoehall.com
SUMMARY:After School Program (ASP)
DESCRIPTION:
URL:https://simcoehall.com/event/after-school-program-asp/
LOCATION:Simcoe Hall Settlement House\, 387 Simcoe Street South\, Oshawa\, Ontario\, L1H 4J2\, Canada
CATEGORIES:Simcoe Hall Program
ATTACH;FMTTYPE=image/png:https://simcoehall.com/wp-content/uploads/2025/03/2025-ASP-Instagram_post.png
ORGANIZER;CN="Simcoe Hall":MAILTO:info@simcoehall.com
END:VEVENT
BEGIN:VEVENT
DTSTART;TZID=America/Toronto:20250328T100000
DTEND;TZID=America/Toronto:20250328T143000
DTSTAMP:20260422T183237
CREATED:20250322T141604Z
LAST-MODIFIED:20250322T141728Z
UID:5843-1743156000-1743172200@simcoehall.com
SUMMARY:Seniors Program: Every Friday at Simcoe Hall Settlement House!
DESCRIPTION:Seniors Program: Every Friday at Simcoe Hall Settlement House! \nLooking for a welcoming space to relax\, connect\, and enjoy some fun activities? Join us for our weekly Seniors Program every Friday from 10:00 AM to 2:30 PM. \nHere’s what’s in store: ☕ Coffee and Social Time: Start your day with a cup of coffee and great conversations. 🎲 Bingo & Other Activities: Get in on the action with games and activities designed for all to enjoy. 🌟 Community & Fun: Make new friends and create wonderful memories in a warm and friendly atmosphere. \nWe’d love to see you there! \nFor more information\, please call us at 905-728-7525.
URL:https://simcoehall.com/event/seniors-program-every-friday-at-simcoe-hall-settlement-house/
LOCATION:Simcoe Hall Settlement House\, 387 Simcoe Street South\, Oshawa\, Ontario\, L1H 4J2\, Canada
CATEGORIES:Simcoe Hall Program
ATTACH;FMTTYPE=image/jpeg:https://simcoehall.com/wp-content/uploads/2025/03/Seniors_love.jpg
ORGANIZER;CN="Simcoe Hall":MAILTO:info@simcoehall.com
END:VEVENT
BEGIN:VEVENT
DTSTART;TZID=America/Toronto:20250324T151500
DTEND;TZID=America/Toronto:20250324T181500
DTSTAMP:20260422T183237
CREATED:20250322T143924Z
LAST-MODIFIED:20250322T144011Z
UID:5848-1742829300-1742840100@simcoehall.com
SUMMARY:After School Program (ASP)
DESCRIPTION:
URL:https://simcoehall.com/event/after-school-program-asp/
LOCATION:Simcoe Hall Settlement House\, 387 Simcoe Street South\, Oshawa\, Ontario\, L1H 4J2\, Canada
CATEGORIES:Simcoe Hall Program
ATTACH;FMTTYPE=image/png:https://simcoehall.com/wp-content/uploads/2025/03/2025-ASP-Instagram_post.png
ORGANIZER;CN="Simcoe Hall":MAILTO:info@simcoehall.com
END:VEVENT
BEGIN:VEVENT
DTSTART;TZID=America/Toronto:20250324T151500
DTEND;TZID=America/Toronto:20250324T181500
DTSTAMP:20260422T183237
CREATED:20250322T143924Z
LAST-MODIFIED:20250322T144011Z
UID:5848-1742829300-1742840100@simcoehall.com
SUMMARY:After School Program (ASP)
DESCRIPTION:
URL:https://simcoehall.com/event/after-school-program-asp/
LOCATION:Simcoe Hall Settlement House\, 387 Simcoe Street South\, Oshawa\, Ontario\, L1H 4J2\, Canada
CATEGORIES:Simcoe Hall Program
ATTACH;FMTTYPE=image/png:https://simcoehall.com/wp-content/uploads/2025/03/2025-ASP-Instagram_post.png
ORGANIZER;CN="Simcoe Hall":MAILTO:info@simcoehall.com
END:VEVENT
BEGIN:VEVENT
DTSTART;TZID=America/Toronto:20250324T151500
DTEND;TZID=America/Toronto:20250324T181500
DTSTAMP:20260422T183237
CREATED:20250322T143924Z
LAST-MODIFIED:20250322T144011Z
UID:5848-1742829300-1742840100@simcoehall.com
SUMMARY:After School Program (ASP)
DESCRIPTION:
URL:https://simcoehall.com/event/after-school-program-asp/
LOCATION:Simcoe Hall Settlement House\, 387 Simcoe Street South\, Oshawa\, Ontario\, L1H 4J2\, Canada
CATEGORIES:Simcoe Hall Program
ATTACH;FMTTYPE=image/png:https://simcoehall.com/wp-content/uploads/2025/03/2025-ASP-Instagram_post.png
ORGANIZER;CN="Simcoe Hall":MAILTO:info@simcoehall.com
END:VEVENT
BEGIN:VEVENT
DTSTART;TZID=America/Toronto:20250324T151500
DTEND;TZID=America/Toronto:20250324T181500
DTSTAMP:20260422T183237
CREATED:20250322T143924Z
LAST-MODIFIED:20250322T144011Z
UID:5848-1742829300-1742840100@simcoehall.com
SUMMARY:After School Program (ASP)
DESCRIPTION:
URL:https://simcoehall.com/event/after-school-program-asp/
LOCATION:Simcoe Hall Settlement House\, 387 Simcoe Street South\, Oshawa\, Ontario\, L1H 4J2\, Canada
CATEGORIES:Simcoe Hall Program
ATTACH;FMTTYPE=image/png:https://simcoehall.com/wp-content/uploads/2025/03/2025-ASP-Instagram_post.png
ORGANIZER;CN="Simcoe Hall":MAILTO:info@simcoehall.com
END:VEVENT
BEGIN:VEVENT
DTSTART;TZID=America/Toronto:20250324T151500
DTEND;TZID=America/Toronto:20250324T181500
DTSTAMP:20260422T183237
CREATED:20250322T143924Z
LAST-MODIFIED:20250322T144011Z
UID:5848-1742829300-1742840100@simcoehall.com
SUMMARY:After School Program (ASP)
DESCRIPTION:
URL:https://simcoehall.com/event/after-school-program-asp/
LOCATION:Simcoe Hall Settlement House\, 387 Simcoe Street South\, Oshawa\, Ontario\, L1H 4J2\, Canada
CATEGORIES:Simcoe Hall Program
ATTACH;FMTTYPE=image/png:https://simcoehall.com/wp-content/uploads/2025/03/2025-ASP-Instagram_post.png
ORGANIZER;CN="Simcoe Hall":MAILTO:info@simcoehall.com
END:VEVENT
BEGIN:VEVENT
DTSTART;TZID=America/Toronto:20250328T100000
DTEND;TZID=America/Toronto:20250328T143000
DTSTAMP:20260422T183237
CREATED:20250322T141604Z
LAST-MODIFIED:20250322T141728Z
UID:5843-1743156000-1743172200@simcoehall.com
SUMMARY:Seniors Program: Every Friday at Simcoe Hall Settlement House!
DESCRIPTION:Seniors Program: Every Friday at Simcoe Hall Settlement House! \nLooking for a welcoming space to relax\, connect\, and enjoy some fun activities? Join us for our weekly Seniors Program every Friday from 10:00 AM to 2:30 PM. \nHere’s what’s in store: ☕ Coffee and Social Time: Start your day with a cup of coffee and great conversations. 🎲 Bingo & Other Activities: Get in on the action with games and activities designed for all to enjoy. 🌟 Community & Fun: Make new friends and create wonderful memories in a warm and friendly atmosphere. \nWe’d love to see you there! \nFor more information\, please call us at 905-728-7525.
URL:https://simcoehall.com/event/seniors-program-every-friday-at-simcoe-hall-settlement-house/
LOCATION:Simcoe Hall Settlement House\, 387 Simcoe Street South\, Oshawa\, Ontario\, L1H 4J2\, Canada
CATEGORIES:Simcoe Hall Program
ATTACH;FMTTYPE=image/jpeg:https://simcoehall.com/wp-content/uploads/2025/03/Seniors_love.jpg
ORGANIZER;CN="Simcoe Hall":MAILTO:info@simcoehall.com
END:VEVENT
BEGIN:VEVENT
DTSTART;TZID=America/Toronto:20250324T151500
DTEND;TZID=America/Toronto:20250324T181500
DTSTAMP:20260422T183237
CREATED:20250322T143924Z
LAST-MODIFIED:20250322T144011Z
UID:5848-1742829300-1742840100@simcoehall.com
SUMMARY:After School Program (ASP)
DESCRIPTION:
URL:https://simcoehall.com/event/after-school-program-asp/
LOCATION:Simcoe Hall Settlement House\, 387 Simcoe Street South\, Oshawa\, Ontario\, L1H 4J2\, Canada
CATEGORIES:Simcoe Hall Program
ATTACH;FMTTYPE=image/png:https://simcoehall.com/wp-content/uploads/2025/03/2025-ASP-Instagram_post.png
ORGANIZER;CN="Simcoe Hall":MAILTO:info@simcoehall.com
END:VEVENT
BEGIN:VEVENT
DTSTART;TZID=America/Toronto:20250324T151500
DTEND;TZID=America/Toronto:20250324T181500
DTSTAMP:20260422T183237
CREATED:20250322T143924Z
LAST-MODIFIED:20250322T144011Z
UID:5848-1742829300-1742840100@simcoehall.com
SUMMARY:After School Program (ASP)
DESCRIPTION:
URL:https://simcoehall.com/event/after-school-program-asp/
LOCATION:Simcoe Hall Settlement House\, 387 Simcoe Street South\, Oshawa\, Ontario\, L1H 4J2\, Canada
CATEGORIES:Simcoe Hall Program
ATTACH;FMTTYPE=image/png:https://simcoehall.com/wp-content/uploads/2025/03/2025-ASP-Instagram_post.png
ORGANIZER;CN="Simcoe Hall":MAILTO:info@simcoehall.com
END:VEVENT
BEGIN:VEVENT
DTSTART;TZID=America/Toronto:20250324T151500
DTEND;TZID=America/Toronto:20250324T181500
DTSTAMP:20260422T183237
CREATED:20250322T143924Z
LAST-MODIFIED:20250322T144011Z
UID:5848-1742829300-1742840100@simcoehall.com
SUMMARY:After School Program (ASP)
DESCRIPTION:
URL:https://simcoehall.com/event/after-school-program-asp/
LOCATION:Simcoe Hall Settlement House\, 387 Simcoe Street South\, Oshawa\, Ontario\, L1H 4J2\, Canada
CATEGORIES:Simcoe Hall Program
ATTACH;FMTTYPE=image/png:https://simcoehall.com/wp-content/uploads/2025/03/2025-ASP-Instagram_post.png
ORGANIZER;CN="Simcoe Hall":MAILTO:info@simcoehall.com
END:VEVENT
BEGIN:VEVENT
DTSTART;TZID=America/Toronto:20250324T151500
DTEND;TZID=America/Toronto:20250324T181500
DTSTAMP:20260422T183237
CREATED:20250322T143924Z
LAST-MODIFIED:20250322T144011Z
UID:5848-1742829300-1742840100@simcoehall.com
SUMMARY:After School Program (ASP)
DESCRIPTION:
URL:https://simcoehall.com/event/after-school-program-asp/
LOCATION:Simcoe Hall Settlement House\, 387 Simcoe Street South\, Oshawa\, Ontario\, L1H 4J2\, Canada
CATEGORIES:Simcoe Hall Program
ATTACH;FMTTYPE=image/png:https://simcoehall.com/wp-content/uploads/2025/03/2025-ASP-Instagram_post.png
ORGANIZER;CN="Simcoe Hall":MAILTO:info@simcoehall.com
END:VEVENT
BEGIN:VEVENT
DTSTART;TZID=America/Toronto:20250324T151500
DTEND;TZID=America/Toronto:20250324T181500
DTSTAMP:20260422T183237
CREATED:20250322T143924Z
LAST-MODIFIED:20250322T144011Z
UID:5848-1742829300-1742840100@simcoehall.com
SUMMARY:After School Program (ASP)
DESCRIPTION:
URL:https://simcoehall.com/event/after-school-program-asp/
LOCATION:Simcoe Hall Settlement House\, 387 Simcoe Street South\, Oshawa\, Ontario\, L1H 4J2\, Canada
CATEGORIES:Simcoe Hall Program
ATTACH;FMTTYPE=image/png:https://simcoehall.com/wp-content/uploads/2025/03/2025-ASP-Instagram_post.png
ORGANIZER;CN="Simcoe Hall":MAILTO:info@simcoehall.com
END:VEVENT
BEGIN:VEVENT
DTSTART;TZID=America/Toronto:20250328T100000
DTEND;TZID=America/Toronto:20250328T143000
DTSTAMP:20260422T183237
CREATED:20250322T141604Z
LAST-MODIFIED:20250322T141728Z
UID:5843-1743156000-1743172200@simcoehall.com
SUMMARY:Seniors Program: Every Friday at Simcoe Hall Settlement House!
DESCRIPTION:Seniors Program: Every Friday at Simcoe Hall Settlement House! \nLooking for a welcoming space to relax\, connect\, and enjoy some fun activities? Join us for our weekly Seniors Program every Friday from 10:00 AM to 2:30 PM. \nHere’s what’s in store: ☕ Coffee and Social Time: Start your day with a cup of coffee and great conversations. 🎲 Bingo & Other Activities: Get in on the action with games and activities designed for all to enjoy. 🌟 Community & Fun: Make new friends and create wonderful memories in a warm and friendly atmosphere. \nWe’d love to see you there! \nFor more information\, please call us at 905-728-7525.
URL:https://simcoehall.com/event/seniors-program-every-friday-at-simcoe-hall-settlement-house/
LOCATION:Simcoe Hall Settlement House\, 387 Simcoe Street South\, Oshawa\, Ontario\, L1H 4J2\, Canada
CATEGORIES:Simcoe Hall Program
ATTACH;FMTTYPE=image/jpeg:https://simcoehall.com/wp-content/uploads/2025/03/Seniors_love.jpg
ORGANIZER;CN="Simcoe Hall":MAILTO:info@simcoehall.com
END:VEVENT
BEGIN:VEVENT
DTSTART;TZID=America/Toronto:20250324T151500
DTEND;TZID=America/Toronto:20250324T181500
DTSTAMP:20260422T183237
CREATED:20250322T143924Z
LAST-MODIFIED:20250322T144011Z
UID:5848-1742829300-1742840100@simcoehall.com
SUMMARY:After School Program (ASP)
DESCRIPTION:
URL:https://simcoehall.com/event/after-school-program-asp/
LOCATION:Simcoe Hall Settlement House\, 387 Simcoe Street South\, Oshawa\, Ontario\, L1H 4J2\, Canada
CATEGORIES:Simcoe Hall Program
ATTACH;FMTTYPE=image/png:https://simcoehall.com/wp-content/uploads/2025/03/2025-ASP-Instagram_post.png
ORGANIZER;CN="Simcoe Hall":MAILTO:info@simcoehall.com
END:VEVENT
BEGIN:VEVENT
DTSTART;TZID=America/Toronto:20250324T151500
DTEND;TZID=America/Toronto:20250324T181500
DTSTAMP:20260422T183237
CREATED:20250322T143924Z
LAST-MODIFIED:20250322T144011Z
UID:5848-1742829300-1742840100@simcoehall.com
SUMMARY:After School Program (ASP)
DESCRIPTION:
URL:https://simcoehall.com/event/after-school-program-asp/
LOCATION:Simcoe Hall Settlement House\, 387 Simcoe Street South\, Oshawa\, Ontario\, L1H 4J2\, Canada
CATEGORIES:Simcoe Hall Program
ATTACH;FMTTYPE=image/png:https://simcoehall.com/wp-content/uploads/2025/03/2025-ASP-Instagram_post.png
ORGANIZER;CN="Simcoe Hall":MAILTO:info@simcoehall.com
END:VEVENT
BEGIN:VEVENT
DTSTART;TZID=America/Toronto:20250324T151500
DTEND;TZID=America/Toronto:20250324T181500
DTSTAMP:20260422T183237
CREATED:20250322T143924Z
LAST-MODIFIED:20250322T144011Z
UID:5848-1742829300-1742840100@simcoehall.com
SUMMARY:After School Program (ASP)
DESCRIPTION:
URL:https://simcoehall.com/event/after-school-program-asp/
LOCATION:Simcoe Hall Settlement House\, 387 Simcoe Street South\, Oshawa\, Ontario\, L1H 4J2\, Canada
CATEGORIES:Simcoe Hall Program
ATTACH;FMTTYPE=image/png:https://simcoehall.com/wp-content/uploads/2025/03/2025-ASP-Instagram_post.png
ORGANIZER;CN="Simcoe Hall":MAILTO:info@simcoehall.com
END:VEVENT
BEGIN:VEVENT
DTSTART;TZID=America/Toronto:20250324T151500
DTEND;TZID=America/Toronto:20250324T181500
DTSTAMP:20260422T183237
CREATED:20250322T143924Z
LAST-MODIFIED:20250322T144011Z
UID:5848-1742829300-1742840100@simcoehall.com
SUMMARY:After School Program (ASP)
DESCRIPTION:
URL:https://simcoehall.com/event/after-school-program-asp/
LOCATION:Simcoe Hall Settlement House\, 387 Simcoe Street South\, Oshawa\, Ontario\, L1H 4J2\, Canada
CATEGORIES:Simcoe Hall Program
ATTACH;FMTTYPE=image/png:https://simcoehall.com/wp-content/uploads/2025/03/2025-ASP-Instagram_post.png
ORGANIZER;CN="Simcoe Hall":MAILTO:info@simcoehall.com
END:VEVENT
BEGIN:VEVENT
DTSTART;TZID=America/Toronto:20250324T151500
DTEND;TZID=America/Toronto:20250324T181500
DTSTAMP:20260422T183237
CREATED:20250322T143924Z
LAST-MODIFIED:20250322T144011Z
UID:5848-1742829300-1742840100@simcoehall.com
SUMMARY:After School Program (ASP)
DESCRIPTION:
URL:https://simcoehall.com/event/after-school-program-asp/
LOCATION:Simcoe Hall Settlement House\, 387 Simcoe Street South\, Oshawa\, Ontario\, L1H 4J2\, Canada
CATEGORIES:Simcoe Hall Program
ATTACH;FMTTYPE=image/png:https://simcoehall.com/wp-content/uploads/2025/03/2025-ASP-Instagram_post.png
ORGANIZER;CN="Simcoe Hall":MAILTO:info@simcoehall.com
END:VEVENT
BEGIN:VEVENT
DTSTART;TZID=America/Toronto:20250328T100000
DTEND;TZID=America/Toronto:20250328T143000
DTSTAMP:20260422T183237
CREATED:20250322T141604Z
LAST-MODIFIED:20250322T141728Z
UID:5843-1743156000-1743172200@simcoehall.com
SUMMARY:Seniors Program: Every Friday at Simcoe Hall Settlement House!
DESCRIPTION:Seniors Program: Every Friday at Simcoe Hall Settlement House! \nLooking for a welcoming space to relax\, connect\, and enjoy some fun activities? Join us for our weekly Seniors Program every Friday from 10:00 AM to 2:30 PM. \nHere’s what’s in store: ☕ Coffee and Social Time: Start your day with a cup of coffee and great conversations. 🎲 Bingo & Other Activities: Get in on the action with games and activities designed for all to enjoy. 🌟 Community & Fun: Make new friends and create wonderful memories in a warm and friendly atmosphere. \nWe’d love to see you there! \nFor more information\, please call us at 905-728-7525.
URL:https://simcoehall.com/event/seniors-program-every-friday-at-simcoe-hall-settlement-house/
LOCATION:Simcoe Hall Settlement House\, 387 Simcoe Street South\, Oshawa\, Ontario\, L1H 4J2\, Canada
CATEGORIES:Simcoe Hall Program
ATTACH;FMTTYPE=image/jpeg:https://simcoehall.com/wp-content/uploads/2025/03/Seniors_love.jpg
ORGANIZER;CN="Simcoe Hall":MAILTO:info@simcoehall.com
END:VEVENT
BEGIN:VEVENT
DTSTART;TZID=America/Toronto:20250324T151500
DTEND;TZID=America/Toronto:20250324T181500
DTSTAMP:20260422T183237
CREATED:20250322T143924Z
LAST-MODIFIED:20250322T144011Z
UID:5848-1742829300-1742840100@simcoehall.com
SUMMARY:After School Program (ASP)
DESCRIPTION:
URL:https://simcoehall.com/event/after-school-program-asp/
LOCATION:Simcoe Hall Settlement House\, 387 Simcoe Street South\, Oshawa\, Ontario\, L1H 4J2\, Canada
CATEGORIES:Simcoe Hall Program
ATTACH;FMTTYPE=image/png:https://simcoehall.com/wp-content/uploads/2025/03/2025-ASP-Instagram_post.png
ORGANIZER;CN="Simcoe Hall":MAILTO:info@simcoehall.com
END:VEVENT
END:VCALENDAR